BEGIN:VCALENDAR
VERSION:2.0
PRODID:-//Braithwaite Ireland - ECPv4.6.3//NONSGML v1.0//EN
CALSCALE:GREGORIAN
METHOD:PUBLISH
X-WR-CALNAME:Braithwaite Ireland
X-ORIGINAL-URL:https://braithwaite.ie
X-WR-CALDESC:Events for Braithwaite Ireland
BEGIN:VEVENT
DTSTART;TZID=UTC+0:20170620T180000
DTEND;TZID=UTC+0:20170620T220000
DTSTAMP:20171107T161927
CREATED:20170526T151529Z
LAST-MODIFIED:20170526T151529Z
UID:1274-1497981600-1497996000@braithwaite.ie
SUMMARY:Tech For Good Dublin Summer Social
DESCRIPTION:Tech For Good Dublin Summer Social | Dtwo\, Dublin | @Tech4GoodDublin #tech4good \n\n\n	Related\n
URL:https://braithwaite.ie/event/tech-good-dublin-summer-social/
END:VEVENT
END:VCALENDAR