BEGIN:VCALENDAR
VERSION:2.0
PRODID:-//Braithwaite Ireland - ECPv4.6.3//NONSGML v1.0//EN
CALSCALE:GREGORIAN
METHOD:PUBLISH
X-WR-CALNAME:Braithwaite Ireland
X-ORIGINAL-URL:https://braithwaite.ie
X-WR-CALDESC:Events for Braithwaite Ireland
BEGIN:VEVENT
DTSTART;TZID=UTC+0:20171016T183000
DTEND;TZID=UTC+0:20171016T223000
DTSTAMP:20171107T161706
CREATED:20170929T175201Z
LAST-MODIFIED:20170929T175201Z
UID:1467-1508178600-1508193000@braithwaite.ie
SUMMARY:Startup Grind Dublin Presents: Brian Norton (Finance Entrepreneur; Future Finance)
DESCRIPTION:Startup Grind Dublin Presents: Brian Norton (Finance Entrepreneur; Future Finance) | Slack European Headquarters\, Dublin 2 | @StartupGrindDUB @FutureFinanceLC \n\n\n	Related\n
URL:https://braithwaite.ie/event/startup-grind-dublin-presents-brian-norton-finance-entrepreneur-future-finance/
END:VEVENT
END:VCALENDAR