BEGIN:VCALENDAR
VERSION:2.0
PRODID:-//Braithwaite Ireland - ECPv4.6.3//NONSGML v1.0//EN
CALSCALE:GREGORIAN
METHOD:PUBLISH
X-WR-CALNAME:Braithwaite Ireland
X-ORIGINAL-URL:https://braithwaite.ie
X-WR-CALDESC:Events for Braithwaite Ireland
BEGIN:VEVENT
DTSTART;VALUE=DATE:20170524
DTEND;VALUE=DATE:20170525
DTSTAMP:20171107T162224
CREATED:20170518T152619Z
LAST-MODIFIED:20170518T152619Z
UID:1149-1495584000-1495670399@braithwaite.ie
SUMMARY:Manufacturing Solutions Ireland\, 2017
DESCRIPTION:Manufacturing Solutions Ireland\, 2017 | LIT\, Moylish Park\, Limerick | @LIT_Tipperary @gtma1 \n\n\n	Related\n
URL:https://braithwaite.ie/event/manufacturing-solutions-ireland-2017/
END:VEVENT
END:VCALENDAR