BEGIN:VCALENDAR
VERSION:2.0
PRODID:-//Braithwaite Ireland - ECPv4.6.3//NONSGML v1.0//EN
CALSCALE:GREGORIAN
METHOD:PUBLISH
X-WR-CALNAME:Braithwaite Ireland
X-ORIGINAL-URL:https://braithwaite.ie
X-WR-CALDESC:Events for Braithwaite Ireland
BEGIN:VEVENT
DTSTART;VALUE=DATE:20170504
DTEND;VALUE=DATE:20170505
DTSTAMP:20171107T160302
CREATED:20170518T151244Z
LAST-MODIFIED:20170518T151244Z
UID:1143-1493856000-1493942399@braithwaite.ie
SUMMARY:Engineers Ireland Annual Conference 2017
DESCRIPTION:Engineers Ireland Annual Conference 2017 | Tullamore Court Hotel\, Offaly | @EngineerIreland \n\n\n	Related\n
URL:https://braithwaite.ie/event/engineers-ireland-annual-conference-2017/
END:VEVENT
END:VCALENDAR