BEGIN:VCALENDAR
VERSION:2.0
PRODID:-//Braithwaite Ireland - ECPv4.6.3//NONSGML v1.0//EN
CALSCALE:GREGORIAN
METHOD:PUBLISH
X-WR-CALNAME:Braithwaite Ireland
X-ORIGINAL-URL:https://braithwaite.ie
X-WR-CALDESC:Events for Braithwaite Ireland
BEGIN:VEVENT
DTSTART;TZID=UTC+0:20170913T084500
DTEND;TZID=UTC+0:20170913T170000
DTSTAMP:20171107T161638
CREATED:20170825T133846Z
LAST-MODIFIED:20170825T133846Z
UID:1425-1505292300-1505322000@braithwaite.ie
SUMMARY:Blockchain Summit Dublin
DESCRIPTION:Blockchain Summit Dublin | Ballsbridge Hotel\, Dublin 4 | @UNICOMSeminars \n\n\n	Related\n
URL:https://braithwaite.ie/event/blockchain-summit-dublin/
END:VEVENT
END:VCALENDAR